BEGIN:VCALENDAR
VERSION:2.0
PRODID:-//MD Concerns of Police Survivors - ECPv4.9.6//NONSGML v1.0//EN
CALSCALE:GREGORIAN
METHOD:PUBLISH
X-WR-CALNAME:MD Concerns of Police Survivors
X-ORIGINAL-URL:https://mdcops.org
X-WR-CALDESC:Events for MD Concerns of Police Survivors
BEGIN:VTIMEZONE
TZID:"America/New_York"
BEGIN:DAYLIGHT
TZOFFSETFROM:-0500
TZOFFSETTO:-0400
TZNAME:EDT
DTSTART:20130310T070000
END:DAYLIGHT
BEGIN:STANDARD
TZOFFSETFROM:-0400
TZOFFSETTO:-0500
TZNAME:EST
DTSTART:20131103T060000
END:STANDARD
END:VTIMEZONE
BEGIN:VEVENT
DTSTART;TZID="America/New_York":20131006T090000
DTEND;TZID="America/New_York":20131006T120000
DTSTAMP:20260426T032207
CREATED:20130318T203947Z
LAST-MODIFIED:20160412T130438Z
UID:213-1381050000-1381060800@mdcops.org
SUMMARY:10K Blue Steele Stampede
DESCRIPTION:What: 10K (6.2 miles) Trail Race\nEarly Bird Cost: $40 up till Sept. 6th\nRegistration from Sept. 7th to Oct. 5th Cost: $45\nDay of Race Cost: $40 on Race Day\nMax Capacity: 300 Runners\nRegister Today:  Active.com \nKeyword: BLUE STEEL \nRace Map: \n \nSponsored By: \n \n
URL:https://mdcops.org/event/10k-blue-steele-stampede/
LOCATION:Cromwell Valley Park (Second Entrance to Park) Willow Grove Farm\, 2175 Cromwell Bridge Rd\, Baltimore \, MD\, 21234\, United States
ATTACH;FMTTYPE=image/png:https://mdcops.org/wp-content/uploads/2013/03/bg-top_960.png
END:VEVENT
END:VCALENDAR