BEGIN:VCALENDAR
VERSION:2.0
PRODID:-//MD Concerns of Police Survivors - ECPv4.9.6//NONSGML v1.0//EN
CALSCALE:GREGORIAN
METHOD:PUBLISH
X-WR-CALNAME:MD Concerns of Police Survivors
X-ORIGINAL-URL:https://mdcops.org
X-WR-CALDESC:Events for MD Concerns of Police Survivors
BEGIN:VTIMEZONE
TZID:"America/New_York"
BEGIN:DAYLIGHT
TZOFFSETFROM:-0500
TZOFFSETTO:-0400
TZNAME:EDT
DTSTART:20160313T070000
END:DAYLIGHT
BEGIN:STANDARD
TZOFFSETFROM:-0400
TZOFFSETTO:-0500
TZNAME:EST
DTSTART:20161106T060000
END:STANDARD
END:VTIMEZONE
BEGIN:VEVENT
DTSTART;VALUE=DATE:20160612
DTEND;VALUE=DATE:20160613
DTSTAMP:20260422T101214
CREATED:20150401T144022Z
LAST-MODIFIED:20160216T153410Z
UID:315-1465689600-1465775999@mdcops.org
SUMMARY:17th Annual C.O.P.S. Ride
DESCRIPTION:Hosted by Maryland Fraternal Order of Police \nRegistration at the Following Staging Locations: \nMolloy’s Irish Pub – Gambrills\, MD –   9:00 – 11:00am\nHarley – Davidson of Frederick – Frederick\, MD – 9:00 – 10:00am\nHarley – Davidson of Baltimore\, MD – 8:30 – 10:00am\nRommel Harley – Davidson Annapolis – Annapolis\, MD – 9:00 – 11:00am\nBattley Harley – Davidson – Gaithersburg\, MD – 9:00 – 10:00am\nRed Eye’s Dock Bar – Kent Island\, MD – 9:00 – 10:00am\nChesapeake Harley – Davidson – Darlington\, MD – 8:30 – 9:30am\nOld Glory Harley – Davidson – Laurel\, MD –   9:00 – 11:00am\nGlen Burnie Motor Sports – Glen Burnie\, MD – 8:30 – 10:00am\nGreene Turtle Restaurant – Prince Frederick\, MD – 9:00 – 11:00am\nGreen Turtle Restaurant – Salisbury\, MD – 8:00 – 9:00am \nAll Riders Will be Escorted to F.O.P. Lodge #89\n2905 Old Largo Road\, Upper Marlboro\, MD 20772 \nFor Lunch and COPS Ride Tee-Shirt \nMinimum Donation of $25.00 per Person Required. \n1st\, 2nd and 3rd Place Prizes for Registration Sites with the Most Riders!\nDoor Prizes\, 50/50 & Vendors \nAll Riders & All Motorcycles WELCOME!! \nFor More Info\, Call Earl Kratsch 410-442-8260 \n \nClick Here to Download Registration Form  \n
URL:https://mdcops.org/event/16th-annual-c-o-p-s-ride/
ATTACH;FMTTYPE=image/jpeg:https://mdcops.org/wp-content/uploads/2015/04/cops-ride-2016.jpg
END:VEVENT
END:VCALENDAR