BEGIN:VCALENDAR
VERSION:2.0
PRODID:-//MD Concerns of Police Survivors - ECPv4.9.6//NONSGML v1.0//EN
CALSCALE:GREGORIAN
METHOD:PUBLISH
X-WR-CALNAME:MD Concerns of Police Survivors
X-ORIGINAL-URL:https://mdcops.org
X-WR-CALDESC:Events for MD Concerns of Police Survivors
BEGIN:VTIMEZONE
TZID:"America/New_York"
BEGIN:DAYLIGHT
TZOFFSETFROM:-0500
TZOFFSETTO:-0400
TZNAME:EDT
DTSTART:20140309T070000
END:DAYLIGHT
BEGIN:STANDARD
TZOFFSETFROM:-0400
TZOFFSETTO:-0500
TZNAME:EST
DTSTART:20141102T060000
END:STANDARD
END:VTIMEZONE
BEGIN:VEVENT
DTSTART;TZID="America/New_York":20140531T080000
DTEND;TZID="America/New_York":20140531T080059
DTSTAMP:20260425T150813
CREATED:20140307T210717Z
LAST-MODIFIED:20140307T210717Z
UID:276-1401523200-1401523259@mdcops.org
SUMMARY:Amtrak FOP Md. 127F sponsoring an Off Road Charity Ride
DESCRIPTION:Chaos Off-road Park-Capon Bridge\, WV \n
URL:https://mdcops.org/event/amtrak-fop-md-127f-sponsoring-an-off-road-charity-ride/
END:VEVENT
END:VCALENDAR