BEGIN:VCALENDAR
VERSION:2.0
PRODID:-//MD Concerns of Police Survivors - ECPv4.9.6//NONSGML v1.0//EN
CALSCALE:GREGORIAN
METHOD:PUBLISH
X-WR-CALNAME:MD Concerns of Police Survivors
X-ORIGINAL-URL:https://mdcops.org
X-WR-CALDESC:Events for MD Concerns of Police Survivors
BEGIN:VTIMEZONE
TZID:"America/New_York"
BEGIN:DAYLIGHT
TZOFFSETFROM:-0500
TZOFFSETTO:-0400
TZNAME:EDT
DTSTART:20130310T070000
END:DAYLIGHT
BEGIN:STANDARD
TZOFFSETFROM:-0400
TZOFFSETTO:-0500
TZNAME:EST
DTSTART:20131103T060000
END:STANDARD
END:VTIMEZONE
BEGIN:VEVENT
DTSTART;VALUE=DATE:20131018
DTEND;VALUE=DATE:20131021
DTSTAMP:20260426T013807
CREATED:20130318T204042Z
LAST-MODIFIED:20130815T150616Z
UID:214-1382054400-1382313599@mdcops.org
SUMMARY:Annual Meeting/ Weekend Retreat
DESCRIPTION:In Ocean City \n\n    Thank you for your submission.\n	\n		After completing the registration\, please call the Grand Hotel to book your room at 410-289-6191.  You will be required to give your credit card information at that time.  They will not bill your card.  The MD Chapter will pay for Friday and Saturday night only.  Any incidentals will be at your own expense.  When calling the Grand Hotel\, please let them know that you are booking with the MD C.O.P.S. group.\n		\n		September 16\, 2015 is the final day you make a reservation.\n		\n	\n	\n		\n				\n			\n			\n			\n			\n			\n				\n					\n						Name*\n						\n						Please correct your Name. \n					\n				\n				\n					\n						Street Address\n						\n					\n				\n				\n					\n						City\n						\n					\n				\n				\n					\n						State\n						\n					\n				\n				\n					\n						Zip Code\n						\n					\n				\n				\n				\n					\n						Home Phone\n						\n					\n				\n				\n					\n						Call Phone\n						\n					\n				\n				\n					\n						Email Address*\n						\n						Please correct your Email Address. \n					\n				\n				\n					\n						Name of Officer*\n						\n						Please correct your Name of Officer. \n					\n				\n				\n					\n						Department\n						\n					\n				\n				\n					\n						Relationship*\n						\n						Please correct your Relationship. \n					\n				\n				\n					\n						Emergency Contact*\n						\n						Please correct your Emergency Contact. \n					\n				\n				\n					\n						Other Family Members Attending (if children\, list age)\n						\n					\n				\n				\n					\n						Medical Conditions (including food allergies)\n						\n					\n				\n			\n\n			Submit Your Request\n		\n	\n\n
URL:https://mdcops.org/event/annual-meeting-weekend-retreat/
LOCATION:Unnamed Venue\, Enter your address line 1 here\, Enter your city here\, Enter your state here\, Enter your zip code here\, United States
ORGANIZER;CN="Unnamed%20Organizer":MAILTO:Enter your email here
END:VEVENT
END:VCALENDAR