BEGIN:VCALENDAR
VERSION:2.0
PRODID:-//MD Concerns of Police Survivors - ECPv4.9.6//NONSGML v1.0//EN
CALSCALE:GREGORIAN
METHOD:PUBLISH
X-WR-CALNAME:MD Concerns of Police Survivors
X-ORIGINAL-URL:https://mdcops.org
X-WR-CALDESC:Events for MD Concerns of Police Survivors
BEGIN:VTIMEZONE
TZID:"America/New_York"
BEGIN:DAYLIGHT
TZOFFSETFROM:-0500
TZOFFSETTO:-0400
TZNAME:EDT
DTSTART:20140309T070000
END:DAYLIGHT
BEGIN:STANDARD
TZOFFSETFROM:-0400
TZOFFSETTO:-0500
TZNAME:EST
DTSTART:20141102T060000
END:STANDARD
END:VTIMEZONE
BEGIN:VEVENT
DTSTART;TZID="America/New_York":20140509T100000
DTEND;TZID="America/New_York":20140509T100000
DTSTAMP:20260425T193318
CREATED:20140307T210552Z
LAST-MODIFIED:20150429T150904Z
UID:273-1399629600-1399629600@mdcops.org
SUMMARY:Baltimore County Fallen Heroes Memorial
DESCRIPTION:Located at the Courthouse Plaza on May 9th\, 2014 at 10:00 am. \n
URL:https://mdcops.org/event/baltimore-county-fallen-heroes-memorial/
END:VEVENT
END:VCALENDAR