BEGIN:VCALENDAR
VERSION:2.0
PRODID:-//MD Concerns of Police Survivors - ECPv4.9.6//NONSGML v1.0//EN
CALSCALE:GREGORIAN
METHOD:PUBLISH
X-WR-CALNAME:MD Concerns of Police Survivors
X-ORIGINAL-URL:https://mdcops.org
X-WR-CALDESC:Events for MD Concerns of Police Survivors
BEGIN:VTIMEZONE
TZID:"America/New_York"
BEGIN:DAYLIGHT
TZOFFSETFROM:-0500
TZOFFSETTO:-0400
TZNAME:EDT
DTSTART:20140309T070000
END:DAYLIGHT
BEGIN:STANDARD
TZOFFSETFROM:-0400
TZOFFSETTO:-0500
TZNAME:EST
DTSTART:20141102T060000
END:STANDARD
END:VTIMEZONE
BEGIN:VEVENT
DTSTART;TZID="America/New_York":20140709T180000
DTEND;TZID="America/New_York":20140709T180059
DTSTAMP:20260425T103252
CREATED:20140307T210740Z
LAST-MODIFIED:20140307T210740Z
UID:278-1404928800-1404928859@mdcops.org
SUMMARY:Business Meeting
DESCRIPTION:Baltimore City FOP Lodge #3 at 6:00 pm. RSVP to Sue by July 1st\, 2014 \n
URL:https://mdcops.org/event/business-meeting-2/
END:VEVENT
END:VCALENDAR