BEGIN:VCALENDAR
VERSION:2.0
PRODID:-//MD Concerns of Police Survivors - ECPv4.9.6//NONSGML v1.0//EN
CALSCALE:GREGORIAN
METHOD:PUBLISH
X-WR-CALNAME:MD Concerns of Police Survivors
X-ORIGINAL-URL:https://mdcops.org
X-WR-CALDESC:Events for MD Concerns of Police Survivors
BEGIN:VTIMEZONE
TZID:"America/New_York"
BEGIN:DAYLIGHT
TZOFFSETFROM:-0500
TZOFFSETTO:-0400
TZNAME:EDT
DTSTART:20150308T070000
END:DAYLIGHT
BEGIN:STANDARD
TZOFFSETFROM:-0400
TZOFFSETTO:-0500
TZNAME:EST
DTSTART:20151101T060000
END:STANDARD
END:VTIMEZONE
BEGIN:VEVENT
DTSTART;TZID="America/New_York":20150819T180000
DTEND;TZID="America/New_York":20150819T180000
DTSTAMP:20260422T192257
CREATED:20150605T172820Z
LAST-MODIFIED:20150605T173052Z
UID:350-1440007200-1440007200@mdcops.org
SUMMARY:C.O.P.S. Meeting
DESCRIPTION:RSVP to Sue by 8/4/15 \n
URL:https://mdcops.org/event/c-o-p-s-meeting/
LOCATION:Training Center\, University of Md.\, College Park\, MD
ORGANIZER;CN="Sue%20Nickerson":MAILTO:mikie@atlanticbb.net
END:VEVENT
END:VCALENDAR