BEGIN:VCALENDAR
VERSION:2.0
PRODID:-//MD Concerns of Police Survivors - ECPv4.9.6//NONSGML v1.0//EN
CALSCALE:GREGORIAN
METHOD:PUBLISH
X-WR-CALNAME:MD Concerns of Police Survivors
X-ORIGINAL-URL:https://mdcops.org
X-WR-CALDESC:Events for MD Concerns of Police Survivors
BEGIN:VTIMEZONE
TZID:"America/New_York"
BEGIN:DAYLIGHT
TZOFFSETFROM:-0500
TZOFFSETTO:-0400
TZNAME:EDT
DTSTART:20130310T070000
END:DAYLIGHT
BEGIN:STANDARD
TZOFFSETFROM:-0400
TZOFFSETTO:-0500
TZNAME:EST
DTSTART:20131103T060000
END:STANDARD
END:VTIMEZONE
BEGIN:VEVENT
DTSTART;TZID="America/New_York":20131201T140000
DTEND;TZID="America/New_York":20131201T180059
DTSTAMP:20260426T014643
CREATED:20130318T204240Z
LAST-MODIFIED:20131107T190555Z
UID:215-1385906400-1385920859@mdcops.org
SUMMARY:Christmas Party
DESCRIPTION:The Annual Christmas Party will be held on Sunday\, Dec. 1\, 2012. This will be held at the Elk’s Lodge (near Annapolis) The address is\, 2517 Solomon’s Island Rd\, Edgewater Md. 21037. The time is from 2:00-6:00 pm. This is the same place it was held last year. Plans for our Annual Christmas event are underway with a meal\, the always enjoyed Magic Show and of course a visit from someone wearing RED!!!. If you plan on attending please respond to Sue Nickerson at mikie@atlanticbb.net. We will need your response no later that Nov. 15\, 2012. Please list the names of adults and children\, for the children attending please add to the list gender and age. This will help Santa’s helpers be on the mark with the gifts. We hope to see you there\, it is always a great time to relax\, and reconnect with other survivors. Please join us. \n
URL:https://mdcops.org/event/christmas-party-2/
LOCATION:Elk’s Lodge (Edgewater)\, 2 Pythian Drive\, Edgewater\, MD\, 21037\, United States
ORGANIZER;CN="Sue%20Nickerson":MAILTO:mikie@atlanticbb.net
END:VEVENT
END:VCALENDAR