BEGIN:VCALENDAR
VERSION:2.0
PRODID:-//MD Concerns of Police Survivors - ECPv4.9.6//NONSGML v1.0//EN
CALSCALE:GREGORIAN
METHOD:PUBLISH
X-WR-CALNAME:MD Concerns of Police Survivors
X-ORIGINAL-URL:https://mdcops.org
X-WR-CALDESC:Events for MD Concerns of Police Survivors
BEGIN:VTIMEZONE
TZID:"America/New_York"
BEGIN:DAYLIGHT
TZOFFSETFROM:-0500
TZOFFSETTO:-0400
TZNAME:EDT
DTSTART:20220313T070000
END:DAYLIGHT
BEGIN:STANDARD
TZOFFSETFROM:-0400
TZOFFSETTO:-0500
TZNAME:EST
DTSTART:20221106T060000
END:STANDARD
END:VTIMEZONE
BEGIN:VEVENT
DTSTART;VALUE=DATE:20220812
DTEND;VALUE=DATE:20220816
DTSTAMP:20260422T220541
CREATED:20220310T151538Z
LAST-MODIFIED:20220310T151538Z
UID:1042-1660262400-1660607999@mdcops.org
SUMMARY:Fiancés & Significant Others Retreat
DESCRIPTION:Potosi\, MO \n
URL:https://mdcops.org/event/fiances-significant-others-retreat/
END:VEVENT
END:VCALENDAR