BEGIN:VCALENDAR
VERSION:2.0
PRODID:-//MD Concerns of Police Survivors - ECPv4.9.6//NONSGML v1.0//EN
CALSCALE:GREGORIAN
METHOD:PUBLISH
X-WR-CALNAME:MD Concerns of Police Survivors
X-ORIGINAL-URL:https://mdcops.org
X-WR-CALDESC:Events for MD Concerns of Police Survivors
BEGIN:VTIMEZONE
TZID:"America/New_York"
BEGIN:DAYLIGHT
TZOFFSETFROM:-0500
TZOFFSETTO:-0400
TZNAME:EDT
DTSTART:20250309T070000
END:DAYLIGHT
BEGIN:STANDARD
TZOFFSETFROM:-0400
TZOFFSETTO:-0500
TZNAME:EST
DTSTART:20251102T060000
END:STANDARD
END:VTIMEZONE
BEGIN:VEVENT
DTSTART;VALUE=DATE:20250114
DTEND;VALUE=DATE:20250115
DTSTAMP:20260421T135258
CREATED:20250117T010156Z
LAST-MODIFIED:20250117T013142Z
UID:1539-1736812800-1736899199@mdcops.org
SUMMARY:In Honor and in Memory
DESCRIPTION:Cpl. Christine Peters \nGreenbelt Police Dept. \nEOW 1/14/2021 \nCpl. Christine Peters \n
URL:https://mdcops.org/event/in-honor-and-in-memory/
END:VEVENT
END:VCALENDAR