BEGIN:VCALENDAR
VERSION:2.0
PRODID:-//MD Concerns of Police Survivors - ECPv4.9.6//NONSGML v1.0//EN
CALSCALE:GREGORIAN
METHOD:PUBLISH
X-WR-CALNAME:MD Concerns of Police Survivors
X-ORIGINAL-URL:https://mdcops.org
X-WR-CALDESC:Events for MD Concerns of Police Survivors
BEGIN:VTIMEZONE
TZID:"America/New_York"
BEGIN:DAYLIGHT
TZOFFSETFROM:-0500
TZOFFSETTO:-0400
TZNAME:EDT
DTSTART:20150308T070000
END:DAYLIGHT
BEGIN:STANDARD
TZOFFSETFROM:-0400
TZOFFSETTO:-0500
TZNAME:EST
DTSTART:20151101T060000
END:STANDARD
END:VTIMEZONE
BEGIN:VEVENT
DTSTART;TZID="America/New_York":20150508T080000
DTEND;TZID="America/New_York":20150508T110000
DTSTAMP:20260423T002623
CREATED:20150429T182318Z
LAST-MODIFIED:20150501T144941Z
UID:331-1431072000-1431082800@mdcops.org
SUMMARY:Maryland State Police Fallen Heroes Ceremony
DESCRIPTION:Open to the public. Ceremony to honor the fallen officers of the Baltimore County Police Department who have lost their lives in the line of duty. \nThere is a reception immediately following the ceremony hosted by Baltimore County Fraternal Order of Police Lodge #4 at the Parkville Heritage Gardens\, Parkville Shopping Center\, 7631 Harford Rd\, Parkville\, MD 21234. \n
URL:https://mdcops.org/event/maryland-state-police-fallen-heroes-ceremony/
ATTACH;FMTTYPE=image/jpeg:https://mdcops.org/wp-content/uploads/2015/04/HCSO-Memorial-3.jpg
END:VEVENT
END:VCALENDAR