BEGIN:VCALENDAR
VERSION:2.0
PRODID:-//MD Concerns of Police Survivors - ECPv4.9.6//NONSGML v1.0//EN
CALSCALE:GREGORIAN
METHOD:PUBLISH
X-WR-CALNAME:MD Concerns of Police Survivors
X-ORIGINAL-URL:https://mdcops.org
X-WR-CALDESC:Events for MD Concerns of Police Survivors
BEGIN:VTIMEZONE
TZID:"America/New_York"
BEGIN:DAYLIGHT
TZOFFSETFROM:-0500
TZOFFSETTO:-0400
TZNAME:EDT
DTSTART:20240310T070000
END:DAYLIGHT
BEGIN:STANDARD
TZOFFSETFROM:-0400
TZOFFSETTO:-0500
TZNAME:EST
DTSTART:20241103T060000
END:STANDARD
END:VTIMEZONE
BEGIN:VEVENT
DTSTART;TZID="America/New_York":20240617T180000
DTEND;TZID="America/New_York":20240617T180000
DTSTAMP:20260421T151340
CREATED:20240430T163945Z
LAST-MODIFIED:20240613T124133Z
UID:1260-1718647200-1718647200@mdcops.org
SUMMARY:MD C.O.P.S. Meeting LOCATION CHANGE
DESCRIPTION:
URL:https://mdcops.org/event/md-c-o-p-s-meeting-2/
LOCATION:Hilton Garden Inn\, 305 South Truman Pkwy\, Annapolis\, MD\, 21401\, United States
END:VEVENT
END:VCALENDAR