BEGIN:VCALENDAR
VERSION:2.0
PRODID:-//MD Concerns of Police Survivors - ECPv4.9.6//NONSGML v1.0//EN
CALSCALE:GREGORIAN
METHOD:PUBLISH
X-WR-CALNAME:MD Concerns of Police Survivors
X-ORIGINAL-URL:https://mdcops.org
X-WR-CALDESC:Events for MD Concerns of Police Survivors
BEGIN:VTIMEZONE
TZID:"America/New_York"
BEGIN:DAYLIGHT
TZOFFSETFROM:-0500
TZOFFSETTO:-0400
TZNAME:EDT
DTSTART:20230312T070000
END:DAYLIGHT
BEGIN:STANDARD
TZOFFSETFROM:-0400
TZOFFSETTO:-0500
TZNAME:EST
DTSTART:20231105T060000
END:STANDARD
END:VTIMEZONE
BEGIN:VEVENT
DTSTART;VALUE=DATE:20231203
DTEND;VALUE=DATE:20231204
DTSTAMP:20260421T104220
CREATED:20230213T154618Z
LAST-MODIFIED:20231109T212525Z
UID:1177-1701561600-1701647999@mdcops.org
SUMMARY:MD COPS Xmas Luncheon
DESCRIPTION:\n    Thank you for your submission.\n    \n        	\n        \n        \n        \n        \n\n        \n            Name of Fallen Officer*\n            \n            Please enter your Name of Fallen Officer. \n        \n        \n            Names of Adults Attending*\n            \n        Please enter your Names of Adults Attending. \n        \n        \n            Names and Ages of Children Attending\n            \n        \n\n        Register\n    \n\nMust Register Before November 24\, 2023. \n
URL:https://mdcops.org/event/md-cops-xmas-luncheon/
END:VEVENT
END:VCALENDAR