BEGIN:VCALENDAR
VERSION:2.0
PRODID:-//MD Concerns of Police Survivors - ECPv4.9.6//NONSGML v1.0//EN
CALSCALE:GREGORIAN
METHOD:PUBLISH
X-WR-CALNAME:MD Concerns of Police Survivors
X-ORIGINAL-URL:https://mdcops.org
X-WR-CALDESC:Events for MD Concerns of Police Survivors
BEGIN:VTIMEZONE
TZID:"America/New_York"
BEGIN:DAYLIGHT
TZOFFSETFROM:-0500
TZOFFSETTO:-0400
TZNAME:EDT
DTSTART:20220313T070000
END:DAYLIGHT
BEGIN:STANDARD
TZOFFSETFROM:-0400
TZOFFSETTO:-0500
TZNAME:EST
DTSTART:20221106T060000
END:STANDARD
END:VTIMEZONE
BEGIN:VEVENT
DTSTART;TZID="America/New_York":20221203T090000
DTEND;TZID="America/New_York":20221203T150000
DTSTAMP:20260421T033929
CREATED:20221019T131032Z
LAST-MODIFIED:20221019T132112Z
UID:1118-1670058000-1670079600@mdcops.org
SUMMARY:MD EASTERN SHORE POLICE MEMORABILIA SHOW 2022
DESCRIPTION:On Saturday\, December 3\, 2022 from 9 AM – 3 PM \nAt the American Legion Post 278\n800 Romancoke Road\nStevensville\, MD 21666 \nAdmission: $5.00 per person – Children are free\nFood\, Drink\, and Cash Bar \n
URL:https://mdcops.org/event/md-eastern-shore-police-memorabilia-show-2022/
END:VEVENT
END:VCALENDAR