BEGIN:VCALENDAR
VERSION:2.0
PRODID:-//MD Concerns of Police Survivors - ECPv4.9.6//NONSGML v1.0//EN
CALSCALE:GREGORIAN
METHOD:PUBLISH
X-WR-CALNAME:MD Concerns of Police Survivors
X-ORIGINAL-URL:https://mdcops.org
X-WR-CALDESC:Events for MD Concerns of Police Survivors
BEGIN:VTIMEZONE
TZID:"America/New_York"
BEGIN:DAYLIGHT
TZOFFSETFROM:-0500
TZOFFSETTO:-0400
TZNAME:EDT
DTSTART:20220313T070000
END:DAYLIGHT
BEGIN:STANDARD
TZOFFSETFROM:-0400
TZOFFSETTO:-0500
TZNAME:EST
DTSTART:20221106T060000
END:STANDARD
END:VTIMEZONE
BEGIN:VEVENT
DTSTART;TZID="America/New_York":20220510T100000
DTEND;TZID="America/New_York":20220510T100000
DTSTAMP:20260425T134848
CREATED:20220426T184041Z
LAST-MODIFIED:20220426T184041Z
UID:1079-1652176800-1652176800@mdcops.org
SUMMARY:Police Chiefs Association of Prince George’s County Memorial Ceremony
DESCRIPTION:
URL:https://mdcops.org/event/police-chiefs-association-of-prince-georges-county-memorial-ceremony/
LOCATION:St. Mary’s Catholic Church\, Landover Hills\, MD
END:VEVENT
END:VCALENDAR