BEGIN:VCALENDAR
VERSION:2.0
PRODID:-//MD Concerns of Police Survivors - ECPv4.9.6//NONSGML v1.0//EN
CALSCALE:GREGORIAN
METHOD:PUBLISH
X-WR-CALNAME:MD Concerns of Police Survivors
X-ORIGINAL-URL:https://mdcops.org
X-WR-CALDESC:Events for MD Concerns of Police Survivors
BEGIN:VTIMEZONE
TZID:"America/New_York"
BEGIN:DAYLIGHT
TZOFFSETFROM:-0500
TZOFFSETTO:-0400
TZNAME:EDT
DTSTART:20240310T070000
END:DAYLIGHT
BEGIN:STANDARD
TZOFFSETFROM:-0400
TZOFFSETTO:-0500
TZNAME:EST
DTSTART:20241103T060000
END:STANDARD
END:VTIMEZONE
BEGIN:VEVENT
DTSTART;TZID="America/New_York":20240921T110000
DTEND;TZID="America/New_York":20240921T170000
DTSTAMP:20260421T181644
CREATED:20240823T140335Z
LAST-MODIFIED:20240917T180943Z
UID:1349-1726916400-1726938000@mdcops.org
SUMMARY:Scott C. McArdle Memorial Fundraiser
DESCRIPTION:**PLEASE NOTE: DUE TO UNFORESEEN CIRCUMSTANCES\, THIS EVENT HAS BEEN POSTPONED.**  RESCHEDULED DATE WILL BE POSTED AS SOON AS IT IS RECEIVED.  PLEASE CONTINUE TO CHECK BACK FOR MORE DETAILS.** \n \nPlease scan QR code for additional details. \n
URL:https://mdcops.org/event/scott-c-mcardle-memorial-fundraiser/
LOCATION:American Legion Post 226\, 830 Mayo Road\, Edgewater\, Maryland\, 21037
END:VEVENT
END:VCALENDAR