BEGIN:VCALENDAR
VERSION:2.0
PRODID:-//MD Concerns of Police Survivors - ECPv4.9.6//NONSGML v1.0//EN
CALSCALE:GREGORIAN
METHOD:PUBLISH
X-WR-CALNAME:MD Concerns of Police Survivors
X-ORIGINAL-URL:https://mdcops.org
X-WR-CALDESC:Events for MD Concerns of Police Survivors
BEGIN:VTIMEZONE
TZID:"America/New_York"
BEGIN:DAYLIGHT
TZOFFSETFROM:-0500
TZOFFSETTO:-0400
TZNAME:EDT
DTSTART:20160313T070000
END:DAYLIGHT
BEGIN:STANDARD
TZOFFSETFROM:-0400
TZOFFSETTO:-0500
TZNAME:EST
DTSTART:20161106T060000
END:STANDARD
END:VTIMEZONE
BEGIN:VEVENT
DTSTART;TZID="America/New_York":20160810T150000
DTEND;TZID="America/New_York":20160810T200000
DTSTAMP:20260422T081921
CREATED:20160805T201921Z
LAST-MODIFIED:20160805T201921Z
UID:521-1470841200-1470859200@mdcops.org
SUMMARY:Sunny Day at the Armory- Bacon n Beer
DESCRIPTION:$20 Adults\, $10 kids ages 2-10 \n$5 Beer \nBBQ Lunch Buffet\, Beer\, Music\, 50/50 raffle\, family fun activities and much more to benefit C.O.P.S. and LEO Wives have your 6. Event T-Shirts for sale. \nWe are remembering the fallen Officers Dailey and Logsdon by supporting the nonprofit C.O.P.S. and LEO Wives Have Your 6. C.O.P.S. is an organization that is dedicated to rebuilding shattered lives of survivors and co-workers affected by line of duty deaths through partnerships with law enforcement and the community. LEO Wives Have Your 6 is an organization that provides emotional\, physical\, and financial support to Maryland LEO families in need and boost LEO morale in the State of Maryland. \n
URL:https://mdcops.org/event/sunny-day-armory-bacon-n-beer/
END:VEVENT
END:VCALENDAR