BEGIN:VCALENDAR
VERSION:2.0
PRODID:-//MD Concerns of Police Survivors - ECPv4.9.6//NONSGML v1.0//EN
CALSCALE:GREGORIAN
METHOD:PUBLISH
X-WR-CALNAME:MD Concerns of Police Survivors
X-ORIGINAL-URL:https://mdcops.org
X-WR-CALDESC:Events for MD Concerns of Police Survivors
BEGIN:VTIMEZONE
TZID:"America/New_York"
BEGIN:DAYLIGHT
TZOFFSETFROM:-0500
TZOFFSETTO:-0400
TZNAME:EDT
DTSTART:20250309T070000
END:DAYLIGHT
BEGIN:STANDARD
TZOFFSETFROM:-0400
TZOFFSETTO:-0500
TZNAME:EST
DTSTART:20251102T060000
END:STANDARD
END:VTIMEZONE
BEGIN:VEVENT
DTSTART;TZID="America/New_York":20250327T183000
DTEND;TZID="America/New_York":20250327T200000
DTSTAMP:20260421T152540
CREATED:20241220T162539Z
LAST-MODIFIED:20241220T162539Z
UID:1450-1743100200-1743105600@mdcops.org
SUMMARY:Virtual Election Meeting
DESCRIPTION:Virtual Election Meeting: March 27\, 2025 at 6:30pm *Zoom link to be sent out in early March and will also be posted on “Maryland C.O.P.S. ~ Family of Blue” Facebook private page. \n
URL:https://mdcops.org/event/virtual-election-meeting/
END:VEVENT
END:VCALENDAR